BEGIN:VCALENDAR
VERSION:2.0
PRODID:-//eventon.com NONSGML v1.0//EN
CALSCALE:GREGORIAN
METHOD:PUBLISH
BEGIN:VEVENT
UID:69eabe3fe0b81
DTSTAMP:20260424T005007Z
DTSTART:20260519T150000Z
DTEND:20260519T170000Z
LOCATION:
SUMMARY:Graduation 19 May 2026 - Day Two Noon 6 PM to 8 PM
DESCRIPTION:Jaber Al ALi\,  Al Andalus\,  Al Sulaibkhat جابر العلي
 ، الأندلس، الصليبخات .hideEn\,  .rtl .hideAr {display:non
 e;} .rtl .hideEn\,  .hideAr {display:block;}
URL:https://hamelalmesk.com/events/graduation-19-may-2026-day-one-morning-6-pm-to-8-pm/
END:VEVENT
END:VCALENDAR