BEGIN:VCALENDAR
VERSION:2.0
PRODID:-//eventon.com NONSGML v1.0//EN
CALSCALE:GREGORIAN
METHOD:PUBLISH
BEGIN:VEVENT
UID:69eab52d6ca7f
DTSTAMP:20260424T001125Z
DTSTART:20260519T060000Z
DTEND:20260519T080000Z
LOCATION:
SUMMARY:Graduation 19 May 2026 - Day Two Morning 9 AM to 11 AM
DESCRIPTION:Gharb Abdullah Mubarak\,  Kifan\,  AL Qurain غرب عبدال
 ه مبارك، كيفان، القرين .hideEn\,  .rtl .hideAr {display
 :none;}.rtl .hideEn\,  .hideAr {display:block;}
URL:https://hamelalmesk.com/events/graduation-19-may-2026-day-one-morning-9-am-to-11-am/
END:VEVENT
END:VCALENDAR