BEGIN:VCALENDAR
VERSION:2.0
PRODID:-//eventon.com NONSGML v1.0//EN
CALSCALE:GREGORIAN
METHOD:PUBLISH
BEGIN:VEVENT
UID:69eacf145d820
DTSTAMP:20260424T020156Z
DTSTART:20260518T150000Z
DTEND:20260518T170000Z
LOCATION:
SUMMARY:Graduation 18 May 2026 - Day One Noon 6 PM to 8 PM
DESCRIPTION:Al Adan\,  Al Qusor\,  Um Al Haiman العدان، القصور
 ، أم الهيمان .hideEn\,  .rtl .hideAr {display:none;}.rtl .hideEn\
 ,  .hideAr {display:block;}
URL:https://hamelalmesk.com/events/graduation-18-may-2026-day-one-morning-6-pm-to-8-pm/
END:VEVENT
END:VCALENDAR