BEGIN:VCALENDAR
VERSION:2.0
PRODID:-//eventon.com NONSGML v1.0//EN
CALSCALE:GREGORIAN
METHOD:PUBLISH
BEGIN:VEVENT
UID:69eab52de5832
DTSTAMP:20260424T001125Z
DTSTART:20260518T060000Z
DTEND:20260518T080000Z
LOCATION:
SUMMARY:Graduation 18 May 2026 - Day One Morning 9AM to 11AM
DESCRIPTION:Mubarak Al-kabeer \,  Fahed AL Ahmad\,  Heteen\,  Ashbeliya م
 ارك الكبير، فهد الأحمد، حطين، إشبيلية .hid
 eEn\,  .rtl .hideAr {display:none;} .rtl .hideEn\,  .hideAr {display:block;
 }
URL:https://hamelalmesk.com/events/graduation-25-26-january-2026-day-one-morning-9am-to-11am/
END:VEVENT
END:VCALENDAR